BEGIN:VCALENDAR
VERSION:2.0
PRODID:-//wp-events-plugin.com//7.2.3.1//EN
TZID:America/New_York
X-WR-TIMEZONE:America/New_York
BEGIN:VEVENT
UID:399@jccparamus.org
DTSTART;TZID=America/New_York;VALUE=DATE:20210101
DTEND;TZID=America/New_York;VALUE=DATE:20210701
DTSTAMP:20201105T181338Z
URL:https://www.jccparamus.org/events/send-a-birthday-gram-to-someone-spec
 ial/
SUMMARY:Send a Birthday Gram to Someone Special!
DESCRIPTION:Click here to enlarge the flyer for more information.\n\nQuesti
 ons? Call Lili at 201-986-1201
ATTACH;FMTTYPE=image/jpeg:https://www.jccparamus.org/wp-content/uploads/20
 20/11/HBD.jpg
CATEGORIES:Featured Events
END:VEVENT
BEGIN:VTIMEZONE
TZID:America/New_York
X-LIC-LOCATION:America/New_York
BEGIN:STANDARD
DTSTART:20201101T010000
TZOFFSETFROM:-0400
TZOFFSETTO:-0500
TZNAME:EST
END:STANDARD
BEGIN:DAYLIGHT
DTSTART:20210314T030000
TZOFFSETFROM:-0500
TZOFFSETTO:-0400
TZNAME:EDT
END:DAYLIGHT
END:VTIMEZONE
END:VCALENDAR