BEGIN:VCALENDAR
VERSION:2.0
PRODID:-//wp-events-plugin.com//7.2.3.1//EN
TZID:America/New_York
X-WR-TIMEZONE:America/New_York
BEGIN:VEVENT
UID:796@jccparamus.org
DTSTART;TZID=America/New_York;VALUE=DATE:20260531
DTEND;TZID=America/New_York;VALUE=DATE:20260601
DTSTAMP:20260310T192808Z
URL:https://www.jccparamus.org/events/israel-day-parade-on-fifth/
SUMMARY:Israel Day Parade on Fifth
DESCRIPTION:Click here for more information!
ATTACH;FMTTYPE=image/jpeg:https://www.jccparamus.org/wp-content/uploads/20
 24/05/israeli-flag-for-website.jpg
CATEGORIES:Featured Events
END:VEVENT
BEGIN:VTIMEZONE
TZID:America/New_York
X-LIC-LOCATION:America/New_York
BEGIN:DAYLIGHT
DTSTART:20260308T030000
TZOFFSETFROM:-0500
TZOFFSETTO:-0400
TZNAME:EDT
END:DAYLIGHT
END:VTIMEZONE
END:VCALENDAR