BEGIN:VCALENDAR
VERSION:2.0
PRODID:-//wp-events-plugin.com//7.2.3.1//EN
TZID:America/New_York
X-WR-TIMEZONE:America/New_York
BEGIN:VEVENT
UID:778@jccparamus.org
DTSTART;TZID=America/New_York:20260118T000000
DTEND;TZID=America/New_York:20261231T000000
DTSTAMP:20260118T202821Z
URL:https://www.jccparamus.org/events/buy-supermarket-scrip-and-support-th
 e-jccp-cbt/
SUMMARY:Buy Supermarket Scrip and Support the JCCP/CBT!
DESCRIPTION:Click here to read more!
ATTACH;FMTTYPE=image/jpeg:https://www.jccparamus.org/wp-content/uploads/20
 21/06/supermarket-picture.jpg
CATEGORIES:Featured Events
END:VEVENT
BEGIN:VTIMEZONE
TZID:America/New_York
X-LIC-LOCATION:America/New_York
BEGIN:STANDARD
DTSTART:20251102T010000
TZOFFSETFROM:-0400
TZOFFSETTO:-0500
TZNAME:EST
END:STANDARD
BEGIN:DAYLIGHT
DTSTART:20260308T030000
TZOFFSETFROM:-0500
TZOFFSETTO:-0400
TZNAME:EDT
END:DAYLIGHT
BEGIN:STANDARD
DTSTART:20261101T010000
TZOFFSETFROM:-0400
TZOFFSETTO:-0500
TZNAME:EST
END:STANDARD
END:VTIMEZONE
END:VCALENDAR